BEGIN:VCALENDAR
VERSION:2.0
PRODID:-//160.153.0.97//NONSGML kigkonsult.se iCalcreator 2.26.9//
CALSCALE:GREGORIAN
METHOD:PUBLISH
X-FROM-URL:https://yolobowmen.net
X-WR-TIMEZONE:America/Los_Angeles
BEGIN:VTIMEZONE
TZID:America/Los_Angeles
X-LIC-LOCATION:America/Los_Angeles
BEGIN:STANDARD
DTSTART:20251102T020000
TZOFFSETFROM:-0700
TZOFFSETTO:-0800
RDATE:20261101T020000
TZNAME:PST
END:STANDARD
BEGIN:DAYLIGHT
DTSTART:20260308T020000
TZOFFSETFROM:-0800
TZOFFSETTO:-0700
RDATE:20270314T020000
TZNAME:PDT
END:DAYLIGHT
END:VTIMEZONE
BEGIN:VEVENT
UID:ai1ec-772@yolobowmen.net
DTSTAMP:20260424T160708Z
CATEGORIES:
CONTACT:
DESCRIPTION:<div class='et-l et-l--post'>\n			<div class='et_builder_inner_con
 tent et_pb_gutters3'>\n		<p>Anyone is welcome to join us for our monthly clu
 b meetings!</p>\n\n		</div>\n	</div>\n	<span class='et_bloom_bottom_trigger'><
 /span>
DTSTART;TZID=America/Los_Angeles:20230503T180000
DTEND;TZID=America/Los_Angeles:20230503T190000
LOCATION:Archery Range
RRULE:FREQ=MONTHLY;BYDAY=1WE
SEQUENCE:0
SUMMARY:Yolo Bowmen Club Meeting
URL:https://yolobowmen.net/event/club-meeting/
X-COST-TYPE:free
END:VEVENT
END:VCALENDAR
